BEGIN:VCALENDAR
VERSION:2.0
PRODID:-//Opera Maine - ECPv6.15.20//NONSGML v1.0//EN
CALSCALE:GREGORIAN
METHOD:PUBLISH
X-ORIGINAL-URL:https://www.operamaine.org
X-WR-CALDESC:Events for Opera Maine
REFRESH-INTERVAL;VALUE=DURATION:PT1H
X-Robots-Tag:noindex
X-PUBLISHED-TTL:PT1H
BEGIN:VTIMEZONE
TZID:America/New_York
BEGIN:DAYLIGHT
TZOFFSETFROM:-0500
TZOFFSETTO:-0400
TZNAME:EDT
DTSTART:20250309T070000
END:DAYLIGHT
BEGIN:STANDARD
TZOFFSETFROM:-0400
TZOFFSETTO:-0500
TZNAME:EST
DTSTART:20251102T060000
END:STANDARD
BEGIN:DAYLIGHT
TZOFFSETFROM:-0500
TZOFFSETTO:-0400
TZNAME:EDT
DTSTART:20260308T070000
END:DAYLIGHT
BEGIN:STANDARD
TZOFFSETFROM:-0400
TZOFFSETTO:-0500
TZNAME:EST
DTSTART:20261101T060000
END:STANDARD
BEGIN:DAYLIGHT
TZOFFSETFROM:-0500
TZOFFSETTO:-0400
TZNAME:EDT
DTSTART:20270314T070000
END:DAYLIGHT
BEGIN:STANDARD
TZOFFSETFROM:-0400
TZOFFSETTO:-0500
TZNAME:EST
DTSTART:20271107T060000
END:STANDARD
END:VTIMEZONE
BEGIN:VEVENT
DTSTART;TZID=America/New_York:20260324T180000
DTEND;TZID=America/New_York:20260324T190000
DTSTAMP:20260424T215853
CREATED:20260304T144739Z
LAST-MODIFIED:20260304T145324Z
UID:7082-1774375200-1774378800@www.operamaine.org
SUMMARY:Inside Look at Opera Maine's Season - Wells Public Library
DESCRIPTION:Inside Look at Opera Maine’s Season with dramaturg\, Calien Lewis. Learn about the productions\, the music\, and the stories behind these compelling works. Whether you’re a seasoned opera lover or simply curious\, all are welcome!
URL:https://www.operamaine.org/event/inside-look-at-opera-maines-season-wells-public-library/
LOCATION:Wells Public Library\, 1434 Post Rd\, Wells\, ME\, 04090\, United States
CATEGORIES:Other Events
ATTACH;FMTTYPE=image/jpeg:https://www.operamaine.org/wp-content/uploads/2026/03/Wells-library.jpeg
ORGANIZER;CN="Opera Maine":MAILTO:operamaine@operamaine.org
END:VEVENT
END:VCALENDAR