BEGIN:VCALENDAR
VERSION:2.0
PRODID:-//Opera Maine - ECPv6.15.20//NONSGML v1.0//EN
CALSCALE:GREGORIAN
METHOD:PUBLISH
X-ORIGINAL-URL:https://www.operamaine.org
X-WR-CALDESC:Events for Opera Maine
REFRESH-INTERVAL;VALUE=DURATION:PT1H
X-Robots-Tag:noindex
X-PUBLISHED-TTL:PT1H
BEGIN:VTIMEZONE
TZID:America/New_York
BEGIN:DAYLIGHT
TZOFFSETFROM:-0500
TZOFFSETTO:-0400
TZNAME:EDT
DTSTART:20240310T070000
END:DAYLIGHT
BEGIN:STANDARD
TZOFFSETFROM:-0400
TZOFFSETTO:-0500
TZNAME:EST
DTSTART:20241103T060000
END:STANDARD
BEGIN:DAYLIGHT
TZOFFSETFROM:-0500
TZOFFSETTO:-0400
TZNAME:EDT
DTSTART:20250309T070000
END:DAYLIGHT
BEGIN:STANDARD
TZOFFSETFROM:-0400
TZOFFSETTO:-0500
TZNAME:EST
DTSTART:20251102T060000
END:STANDARD
BEGIN:DAYLIGHT
TZOFFSETFROM:-0500
TZOFFSETTO:-0400
TZNAME:EDT
DTSTART:20260308T070000
END:DAYLIGHT
BEGIN:STANDARD
TZOFFSETFROM:-0400
TZOFFSETTO:-0500
TZNAME:EST
DTSTART:20261101T060000
END:STANDARD
BEGIN:DAYLIGHT
TZOFFSETFROM:-0500
TZOFFSETTO:-0400
TZNAME:EDT
DTSTART:20270314T070000
END:DAYLIGHT
BEGIN:STANDARD
TZOFFSETFROM:-0400
TZOFFSETTO:-0500
TZNAME:EST
DTSTART:20271107T060000
END:STANDARD
END:VTIMEZONE
BEGIN:VTIMEZONE
TZID:UTC
BEGIN:STANDARD
TZOFFSETFROM:+0000
TZOFFSETTO:+0000
TZNAME:UTC
DTSTART:20240101T000000
END:STANDARD
END:VTIMEZONE
BEGIN:VEVENT
DTSTART;TZID=America/New_York:20260111T160000
DTEND;TZID=America/New_York:20260111T180000
DTSTAMP:20260424T133345
CREATED:20251027T143958Z
LAST-MODIFIED:20251210T165010Z
UID:6419-1768147200-1768154400@www.operamaine.org
SUMMARY:Serenade - January 11
DESCRIPTION:SERENADE \nJanuary 11\, 2026\n4 – 6 PM \nIn partnership with the Maine Jewish Museum\nSponsored by John Edwards \nJoin us for this special serenade at the Maine Jewish Museum (267 Congress Street\, Portland ME) featuring Alexander Adams-Leytes\, bass-baritone\, and Phillip Silver\, pianist. \nKosher style food and drink will be provided. \nTICKETS\n\n\nRSVP by January 5\nSnow Date: Monday\, January 12\, 5 – 7 PM
URL:https://www.operamaine.org/event/january-11-serenade-childrens-songs-and-stories/
LOCATION:Maine Jewish Museum\, 267 Congress St\, Portland\, ME\, 04101\, United States
CATEGORIES:Serenades & Concerts
ATTACH;FMTTYPE=image/png:https://www.operamaine.org/wp-content/uploads/2025/10/Screenshot-2025-10-27-at-10.18.49-AM.png
ORGANIZER;CN="Opera Maine":MAILTO:operamaine@operamaine.org
END:VEVENT
BEGIN:VEVENT
DTSTART;TZID=America/New_York:20260111T140000
DTEND;TZID=America/New_York:20260111T150000
DTSTAMP:20260424T133345
CREATED:20251210T155704Z
LAST-MODIFIED:20251210T164928Z
UID:6702-1768140000-1768143600@www.operamaine.org
SUMMARY:Children's Songs & Stories - January 11
DESCRIPTION:CHILDREN’S SONGS & STORIES\nwith Alexander Adams-Leytes \nJanuary 11\, 2026\n2 – 3 PM\nRecommended for ages 6 and up. \nJoin us for our FREE Children’s songs and stories event. Bring your children for this special introduction to opera with singing and storytelling\, “tea bites” (think crustless PB&J\, cookies\, etc.) and fun! (All food provided at this event will be kosher style.) Any dressing up that adds to the fun is encouraged. \nJoin us for the Serenade from 4 – 6 PM. Childcare will be provided by registration. \nTICKETS \nRSVP by January 5\nSnow Date: Monday\, January 12\, 4 – 5 PM
URL:https://www.operamaine.org/event/childrens-songs-stories/
LOCATION:Maine Jewish Museum\, 267 Congress St\, Portland\, ME\, 04101\, United States
CATEGORIES:Other Events,Serenades & Concerts
ATTACH;FMTTYPE=image/jpeg:https://www.operamaine.org/wp-content/uploads/2025/12/Childrens-Songs-Stories-Poster.jpg
ORGANIZER;CN="Opera Maine":MAILTO:operamaine@operamaine.org
END:VEVENT
BEGIN:VEVENT
DTSTART;TZID=America/New_York:20251102T150000
DTEND;TZID=America/New_York:20251102T170000
DTSTAMP:20260424T133345
CREATED:20251001T134734Z
LAST-MODIFIED:20251029T124449Z
UID:6166-1762095600-1762102800@www.operamaine.org
SUMMARY:Serenade - November 2\, 2025
DESCRIPTION:Soprano Abigail Raiford and pianist Noriko Yasuda will perform on November 2nd from 3 – 5 PM co-hosted by Peter & Pam Plumb and Rosemary Harris. Details (including the address) will be sent out after your purchase of tickets. \nTICKETS \nFollow us on Facebook and Instagram (@OperaMaine) to get the most up to date information.
URL:https://www.operamaine.org/event/serenade-november-2-2025/
LOCATION:ME
CATEGORIES:Serenades & Concerts
ATTACH;FMTTYPE=image/png:https://www.operamaine.org/wp-content/uploads/2025/10/abigail_raiford_performing.png
ORGANIZER;CN="Opera Maine":MAILTO:operamaine@operamaine.org
END:VEVENT
BEGIN:VEVENT
DTSTART;TZID=UTC:20250914T160000
DTEND;TZID=UTC:20250914T180000
DTSTAMP:20260424T133345
CREATED:20250807T173212Z
LAST-MODIFIED:20250807T215227Z
UID:5997-1757865600-1757872800@www.operamaine.org
SUMMARY:Serenade - Maxwell Levy
DESCRIPTION:Hearing operatic voices in intimate spaces is a special experience! Four times a year\, Opera Maine supporters graciously host a “Serenade” in their homes or other special venues. Opera lovers enjoy short concerts by Opera Maine singers\, socialize with other attendees\, and partake of delicious food and drink. Serenades are also a wonderful way to be introduced to opera! \nTenor Maxwell Levy\, Pirelli in Sweeney Todd\, will be our performing serenade singer at Cumberland Foreside accompanied by pianist Chris Staknys. \nSpecial thanks to our host\, Steve Poulos. \nTICKETS
URL:https://www.operamaine.org/event/serenade-maxwell-levy/
LOCATION:Cumberland Foreside\, Cumberland Foreside\, ME\, 04110\, United States
CATEGORIES:Serenades & Concerts
ATTACH;FMTTYPE=image/jpeg:https://www.operamaine.org/wp-content/uploads/2025/08/pirellifullres.jpg
ORGANIZER;CN="Opera Maine":MAILTO:operamaine@operamaine.org
END:VEVENT
BEGIN:VEVENT
DTSTART;TZID=UTC:20250620T180000
DTEND;TZID=UTC:20250620T200000
DTSTAMP:20260424T133345
CREATED:20250807T185220Z
LAST-MODIFIED:20250807T185220Z
UID:6045-1750442400-1750449600@www.operamaine.org
SUMMARY:Art with Arias
DESCRIPTION:Tenor Jack Hicks performs a diverse repertoire spanning multiple genres in response to artworks in the PMA collection. \n\nTICKETS
URL:https://www.operamaine.org/event/art-with-arias/
LOCATION:Portland Museum of Art\, 7 Congress Square\, Portland\, ME\, 04101\, United States
CATEGORIES:Serenades & Concerts
ORGANIZER;CN="Opera Maine":MAILTO:operamaine@operamaine.org
END:VEVENT
END:VCALENDAR