BEGIN:VCALENDAR
VERSION:2.0
PRODID:-//Opera Maine - ECPv6.15.20//NONSGML v1.0//EN
CALSCALE:GREGORIAN
METHOD:PUBLISH
X-ORIGINAL-URL:https://www.operamaine.org
X-WR-CALDESC:Events for Opera Maine
REFRESH-INTERVAL;VALUE=DURATION:PT1H
X-Robots-Tag:noindex
X-PUBLISHED-TTL:PT1H
BEGIN:VTIMEZONE
TZID:America/New_York
BEGIN:DAYLIGHT
TZOFFSETFROM:-0500
TZOFFSETTO:-0400
TZNAME:EDT
DTSTART:20250309T070000
END:DAYLIGHT
BEGIN:STANDARD
TZOFFSETFROM:-0400
TZOFFSETTO:-0500
TZNAME:EST
DTSTART:20251102T060000
END:STANDARD
BEGIN:DAYLIGHT
TZOFFSETFROM:-0500
TZOFFSETTO:-0400
TZNAME:EDT
DTSTART:20260308T070000
END:DAYLIGHT
BEGIN:STANDARD
TZOFFSETFROM:-0400
TZOFFSETTO:-0500
TZNAME:EST
DTSTART:20261101T060000
END:STANDARD
BEGIN:DAYLIGHT
TZOFFSETFROM:-0500
TZOFFSETTO:-0400
TZNAME:EDT
DTSTART:20270314T070000
END:DAYLIGHT
BEGIN:STANDARD
TZOFFSETFROM:-0400
TZOFFSETTO:-0500
TZNAME:EST
DTSTART:20271107T060000
END:STANDARD
END:VTIMEZONE
BEGIN:VEVENT
DTSTART;TZID=America/New_York:20260607T160000
DTEND;TZID=America/New_York:20260607T180000
DTSTAMP:20260424T115640
CREATED:20260422T132717Z
LAST-MODIFIED:20260422T141019Z
UID:7433-1780848000-1780855200@www.operamaine.org
SUMMARY:Serenade - June 7
DESCRIPTION:Join us for this special Serenade at The Casco’s Sky Lounge featuring baritone Laureano Quant (Mercutio in our upcoming production of Roméo et Juliette) and pianist Noriko Yasuda. \nThe Sky Lounge at The Casco (201 Federal Street Portland\, ME 04101 – 18th floor) features striking views of Casco Bay. Don’t miss the opportunity to witness professional opera in this unique venue.
URL:https://www.operamaine.org/event/serenade-june-7/
LOCATION:The Casco Sky Lounge\, 201 Federal St\, Portland\, ME\, 04101\, United States
CATEGORIES:Serenades & Concerts
ATTACH;FMTTYPE=image/png:https://www.operamaine.org/wp-content/uploads/2026/03/Serenade-June-7.png
ORGANIZER;CN="Opera Maine":MAILTO:operamaine@operamaine.org
END:VEVENT
END:VCALENDAR